BEGIN:VCALENDAR
VERSION:2.0
PRODID:spatie/icalendar-generator
NAME:BOAST: Best of Astoria &amp\; LIC
X-WR-CALNAME:BOAST: Best of Astoria &amp\; LIC
DESCRIPTION:Events for BOAST: Best of Astoria &amp\; LIC
X-WR-CALDESC:Events for BOAST: Best of Astoria &amp\; LIC
BEGIN:VTIMEZONE
TZID:America/New_York
BEGIN:STANDARD
DTSTART:20251102T020000Z
TZOFFSETFROM:-0400
TZOFFSETTO:-0500
END:STANDARD
BEGIN:DAYLIGHT
DTSTART:20260308T020000Z
TZOFFSETFROM:-0500
TZOFFSETTO:-0400
END:DAYLIGHT
BEGIN:STANDARD
DTSTART:20261101T020000Z
TZOFFSETFROM:-0400
TZOFFSETTO:-0500
END:STANDARD
END:VTIMEZONE
BEGIN:VTIMEZONE
TZID:UTC
BEGIN:STANDARD
DTSTART:20250728T130447Z
TZOFFSETFROM:+0000
TZOFFSETTO:+0000
END:STANDARD
END:VTIMEZONE
BEGIN:VEVENT
UID:4156-1777939200-1777946400@boast.nyc
DTSTAMP:20260424T130447Z
SUMMARY:Trivia Night at Maggie Hall’s
DESCRIPTION:
LOCATION:34-06 30th Ave\, Astoria\, NY 11103
URL:https://boast.nyc/event/trivia-night-at-maggie-halls-may-5-2026/
DTSTART;TZID=America/New_York:20260504T200000
DTEND;TZID=America/New_York:20260504T220000
END:VEVENT
END:VCALENDAR