BEGIN:VCALENDAR
VERSION:2.0
PRODID:spatie/icalendar-generator
NAME:BOAST: Best of Astoria &amp\; LIC
X-WR-CALNAME:BOAST: Best of Astoria &amp\; LIC
DESCRIPTION:Events for BOAST: Best of Astoria &amp\; LIC
X-WR-CALDESC:Events for BOAST: Best of Astoria &amp\; LIC
BEGIN:VTIMEZONE
TZID:America/New_York
BEGIN:STANDARD
DTSTART:20251102T020000Z
TZOFFSETFROM:-0400
TZOFFSETTO:-0500
END:STANDARD
BEGIN:DAYLIGHT
DTSTART:20260308T020000Z
TZOFFSETFROM:-0500
TZOFFSETTO:-0400
END:DAYLIGHT
BEGIN:STANDARD
DTSTART:20261101T020000Z
TZOFFSETFROM:-0400
TZOFFSETTO:-0500
END:STANDARD
END:VTIMEZONE
BEGIN:VTIMEZONE
TZID:UTC
BEGIN:STANDARD
DTSTART:20250728T154206Z
TZOFFSETFROM:+0000
TZOFFSETTO:+0000
END:STANDARD
END:VTIMEZONE
BEGIN:VEVENT
UID:4528-1777849200-1777861800@boast.nyc
DTSTAMP:20260424T154206Z
SUMMARY:ORCHESTRA Q: NIGHT SHIFT
DESCRIPTION:
LOCATION:44-19 Purves St\, Long Island City\, NY 11101
URL:https://boast.nyc/event/orchestra-q-night-shift/
DTSTART;TZID=America/New_York:20260503T190000
DTEND;TZID=America/New_York:20260503T223000
END:VEVENT
END:VCALENDAR